BEGIN:VCALENDAR
VERSION:2.0
PRODID:-//The Logistics Academy - ECPv4.0.5//NONSGML v1.0//EN
CALSCALE:GREGORIAN
METHOD:PUBLISH
X-WR-CALNAME:The Logistics Academy
X-ORIGINAL-URL:https://tla.edu.sg
X-WR-CALDESC:Events for The Logistics Academy
BEGIN:VEVENT
DTSTART;TZID="UTC+0":20260223T090000
DTEND;TZID="UTC+0":20260223T180000
DTSTAMP:20260421T121003
CREATED:20250325T021411
LAST-MODIFIED:20260116T095202
UID:1718-1771837200-1771869600@tla.edu.sg
SUMMARY:Airfreight 101
DESCRIPTION:
URL:https://tla.edu.sg/event/airfreight-101-2/
END:VEVENT
END:VCALENDAR