BEGIN:VCALENDAR
VERSION:2.0
PRODID:-//The Logistics Academy - ECPv4.0.5//NONSGML v1.0//EN
CALSCALE:GREGORIAN
METHOD:PUBLISH
X-WR-CALNAME:The Logistics Academy
X-ORIGINAL-URL:https://tla.edu.sg
X-WR-CALDESC:Events for The Logistics Academy
BEGIN:VEVENT
DTSTART;TZID="UTC+0":20260513T090000
DTEND;TZID="UTC+0":20260515T180000
DTSTAMP:20260421T121203
CREATED:20250325T052441
LAST-MODIFIED:20260226T031302
UID:1748-1778662800-1778868000@tla.edu.sg
SUMMARY:Specialist Certificate in Cold Chain Management (Pharmaceuticals & Medical Devices)
DESCRIPTION:
URL:https://tla.edu.sg/event/specialist-certificate-cold-chain-management-pharmaceuticals-medical-devices/
END:VEVENT
END:VCALENDAR