BEGIN:VCALENDAR
VERSION:2.0
PRODID:-//The Logistics Academy - ECPv4.0.5//NONSGML v1.0//EN
CALSCALE:GREGORIAN
METHOD:PUBLISH
X-WR-CALNAME:The Logistics Academy
X-ORIGINAL-URL:https://tla.edu.sg
X-WR-CALDESC:Events for The Logistics Academy
BEGIN:VEVENT
DTSTART;TZID="UTC+0":20261019T090000
DTEND;TZID="UTC+0":20261019T180000
DTSTAMP:20260422T084718
CREATED:20250325T023702
LAST-MODIFIED:20260220T092239
UID:1729-1792400400-1792432800@tla.edu.sg
SUMMARY:Seafreight 101
DESCRIPTION:
URL:https://tla.edu.sg/event/seafreight-101/
END:VEVENT
END:VCALENDAR