BEGIN:VCALENDAR
VERSION:2.0
PRODID:-//The Logistics Academy - ECPv4.0.5//NONSGML v1.0//EN
CALSCALE:GREGORIAN
METHOD:PUBLISH
X-WR-CALNAME:The Logistics Academy
X-ORIGINAL-URL:https://tla.edu.sg
X-WR-CALDESC:Events for The Logistics Academy
BEGIN:VEVENT
DTSTART;TZID="UTC+0":20260611T090000
DTEND;TZID="UTC+0":20260611T180000
DTSTAMP:20260421T091038
CREATED:20240627T054458
LAST-MODIFIED:20260211T131254
UID:1658-1781168400-1781200800@tla.edu.sg
SUMMARY:Certificate in Logistics Operations - Day Class (Day 3 of 4)
DESCRIPTION:of 4
URL:https://tla.edu.sg/event/certificate-logistics-operations-day-class-day-3-4/
END:VEVENT
END:VCALENDAR